Workbook

Sheet Протокол
O1: Приложение № ______ к реестру №___________ | P1: Приложение № ______ к реестру №___________
O2: к акту №_________________________________
O3: от "______" _____________ 20 _____г.
A5: ЛОГОТИП ОРГАНИЗАЦИИ | D5: Строительная лаборатория ООО "Строительное управление № 911"
D6: Аттестат аккредитации испытательной лаборатории Регистрационный № RPSS.RU 011.Л.05.2022. Срок действия с 31.05.2022 г. по 31.05.2025 г.
D7: Юридический адрес: 142300 Московская область, г. Чехов, ул. Офицерский посёлок, д.51
D9: ПРОТОКОЛ испытания щебня | Z9: № | AA9: 0000-000
Z11: стр. 1 | AB11: из 1
V13: УТВЕРЖДАЮ
V14: Начальник строительной лаборатории ООО "СУ 911"
V16: _________________Плоцкая Н.А.
V17: =I29 -> 45598
A19: Объект строительства: «Реконструкция с последующей эксплуатацией на платной основе федеральной автомобильной дороги М-3 «Украина» - от Москвы через Калугу, Брянск до границы с Украиной (на Киев), участок км 37 – км 173, Московская и Калужская области» 2.2 этап строительства, I пусковой комплекс км 65 – км 86»
A20: Заказчик: | I20: Государственная компания "Автодор"
A21: Ген.подрядчик: | I21: АО "ДСК "АВТОБАН"
A22: Производитель работ: | I22: ООО "Строительное управление № 911"
A23: Место отбора пробы: | I23: штабель, ПК 000+00 0во
A24: Наименование материала: | I24: Щебень фр св. 5 до 20 мм
A25: Горная порода: | I25: гранит
A26: Назначение материала: | I26: Щебёночная подготовка.
A27: Производитель (поставщик материала): | I27: месторождение "Кузнечное-1"
A28: Дата отбора пробы: | I28: 45598
A29: Дата испытания: | I29: =I28 -> 45598
A30: Место проведения испытаний: | I30: лабораторный пост ООО "СУ 911", Калужская область, с.п. Ворсино
A31: Условия проведения испытаний: | I31: температура воздуха 20 ˚С, влажность 71 %
A32: Испытания проводились в соответствии: | I32: ГОСТ 8269.0-97
A33: Применяемые СИ и ИО:
A34: сушильный шкаф C-Tech DHG-9240B, зав.№ C202304RU12078, протокол аттестации № 0200-00037635, действует до 12.06.2025 г.;
A35: весы Adventurer 3100, зав.№ 8727245389, свидетельство о поверке № С-ТТ/08-04-2024/330351493, действует до 07.04.2025 г.;
A36: весы электронные ПВм-3/32-ЖКИ-П, зав.№ 280718, свидетельство о поверке № С-ТТ/08-04-2024/330351500, действует до 07.04.2025 г.;
A37: комплект сит КП-109, инв.№ 8156/1, контроль параметров № 0200-00014871, действует до 11.04.2025 г.;
A38: цилиндр с плунжером КП-116, зав. №6, протокол аттестации №0200-00035357, действует до 04.07.2025 г.;
A39: шаблон зав. № 60603099, сертификат о калибровке № 0200-00035361, действует до 04.07.2025 г.;
A40: мерный металлический сосуд МП-20 (20 л), зав. № 20, контроль параметров №0200-0035405 действует до 04.07.2025 г.;
A41: пресс гидравлический ТП-1-1500, зав. № 1881, свидетельство о поверке № С-ТТ/26-03-2024/327585350 действует до 25.03.2025 г.
A42: Результаты испытаний | AI42: Результаты испытаний
A43: Наименование показателя, ед. изм. | N43: Фактическое значение | V43: Требования ГОСТ 8267-93 | AA43: Технические требования | AI43: Наименование показателя, ед. изм. | AV43: Фактическое значение | BD43: Требования ГОСТ 8267-93 | BI43: Технические требования
A44: 1. Насыпная плотность, кг/м³ | N44: 1400 | V44: - | AA44: - | AE44: каждые 3 мес | AI44: 1. Насыпная плотность, кг/м³ | AV44: =MROUND(RANDBETWEEN(1390,1410), 10) -> 1390 | BD44: - | BI44: -
A45: 2. Влажность, % | N45: 3.1 | V45: - | AA45: - | AI45: 2. Влажность, % | AV45: =RANDBETWEEN(27,39)/10 -> 2.7 | BD45: - | BI45: -
A46: 3. Марка по прочности | N46: М1200 | R46: (15,3%) | V46: - | AA46: не менее 1200 | AE46: каждые 3 мес | AI46: 3. Марка по прочности | AV46: М1200 | AZ46: ="("&MROUND(RANDBETWEEN(1250,1590)/100,0.1)&"%"&")" -> (14,8%) | BD46: - | BI46: не менее 1200
...

Sheet Акт отбора
C1: Строительная лаборатория ООО "Строительное управление № 911"
C3: Аттестат аккредитации испытательной лаборатории Регистрационный № RPSS.RU 011.Л.05.2022. Срок действия с 31.05.2022 г. по 31.05.2025 г.
J4: № | K4: =MID(Протокол!AA9,1,3) -> 000
C5: Юридический адрес: 142300 Московская область, г. Чехов, ул. Офицерский посёлок, д.51
C6: АКТ отбора проб щебня
A9: Общие данные
A10: Объект | D10: «Реконструкция с последующей эксплуатацией на платной основе федеральной автомобильной дороги М-3 «Украина» - от Москвы через Калугу, Брянск до границы с Украиной (на Киев), участок км 37 – км 173, Московская и Калужская области» 2.2 этап строительства, I пусковой комплекс км 65 – км 86»
A11: Заказчик | D11: =Протокол!I20 -> Государственная компания "Автодор"
A12: Ген.подрядчик | D12: АО "ДСК "АВТОБАН"
A13: Строительная организация | D13: ООО "Строительное управление № 911"
A14: Место отбора | D14: =Протокол!I23 -> штабель, ПК 000+00 0во
A15: Дата отбора | D15: =Протокол!I28 -> 45598
A16: Назначение материала | D16: =Протокол!I26 -> Щебёночная подготовка.
A17: Цель отбора | D17: определение физико-механических свойств
A18: Вид контроля | D18: входной | L18: входной | M18: операционный
A19: Используемое оборудование | D19: лопата, мешок
A20: Нормативный документ на метод отбора проб | D20: ГОСТ 8267-93 (п.5.7-5.10)
A22: Данные о материале
A23: Наименование материала | E23: Щебень гранитный
A24: Фракция по паспорту | E24: св. 20 до 40
A25: Предприятие-изготовитель (карьер) | E25: =Протокол!I27 -> месторождение "Кузнечное-1"
A26: Поставщик | E26: ООО "СУ 910" | L26: ООО "Оникс" | N26: ООО "Трансгруз"
A27: Объём пробы, кг | E27: 48
A28: Условия отбора образцов | E28: температура воздуха: | G28: =INDEX([1]Лист1!$B$1:$B$556,MATCH(D15,[1]Лист1!$A$1:$A$556,0)) -> +2℃; | H28: Погодные условия: | I28: =INDEX([1]Лист1!$C$1:$C$556,MATCH(D15,[1]Лист1!$A$1:$A$556,0)) -> Пасмурно | L28: Ясно | M28: Пасмурно | N28: Облачно | O28: Малооблачно
A29: Условия хранения образцов | E29: =Протокол!I30 -> лабораторный пост ООО "СУ 911", Калужская область, с.п. Ворсино
A30: Наличие сертификата соответствия, санитарно-эпидемиологического заключения | E30: Да
A31: Размер партии, т | E31: -
A33: Примечание:
A36: Представители | E36: Должность | H36: ФИО | J36: Подпись
A37: ООО "Строительное управление № 911" | E37: =IF(H37="Сафронов В.А.","вед.инженер-лаборант","инженер-лаборант") -> инженер-лаборант | H37: =Протокол!X67 -> Малахова Е.С.
A38: ООО "Строительное управление № 911" | E38: производитель работ | H38: Аширов Р.Р. | L38: Аликберов З.Д. | N38: Мишаков М.В.

Sheet Р-12
Q1: Форма Р-12 | AD1: Форма Р-12
A2: № п/п | B2: Дата испытания | C2: Шифр (номер) пробы | D2: Наименование материала (щебень, гравий) размер фракции, мм | E2: Тип горной породы | F2: Зерновой состав, % (Зерновой состав на контрольных ситах, %) | S2: Насыпная плотность, кг/м³ | T2: Средняя плотность, г/см³ | U2: Истинная плотность г/см³ | V2: Содержание пылеватых и глинистых частиц, % по массе | W2: Содержание глины в комках, % по массе | X2: Содержание пластинчатых(лещадных) и игловатых зёрен, % по массе | Y2: Содержание дробленных зёрен, % по массе | Z2: Содержание зерен слабых пород, % по массе | AA2: Потеря массы после испытания на дробимость, % по массе | AB2: Марка по дробимости | AC2: Марка по истираемости | AD2: Марка по морозостойкости | AE2: Заключение и подпись лаборанта, замечания контролирующих лиц
F3: Наименование остатков | G3: 70 | H3: 40 | I3: 20 | J3: 15 | K3: 10 | L3: 5 | M3: 2.5 | N3: 1.25 | O3: (1,25Д наиб) | P3: (Д наиб) | Q3: (0,5(Днаим +Днаиб)) | R3: (Д наим)
A4: 1 | B4: 2 | C4: 3 | D4: 4 | E4: 5 | F4: 6 | G4: 7 | H4: 8 | I4: 9 | J4: 10 | K4: 11 | L4: 12 | M4: 13 | N4: 14 | O4: 15 | P4: 16 | Q4: 17 | R4: 18 | S4: 19 | T4: 20 | U4: 21 | V4: 22 | W4: 23 | X4: 24 | Y4: 25 | Z4: 26 | AA4: 27 | AB4: 28 | AC4: 29 | AD4: 30 | AE4: 31
B5: =Протокол!I29 -> 45598 | C5: =Протокол!AA9 -> 0000-000 | D5: =Протокол!I24 -> Щебень фр св. 5 до 20 мм | E5: =Протокол!I25 -> гранит | F5: Сита | G5: =Протокол!E56 -> 25 | H5: =Протокол!I56 -> 20 | I5: =Протокол!N56 -> 12.5 | J5: =Протокол!V56 -> 5 | K5: =Протокол!AA56 -> 2.5 | O5: =Протокол!E56 -> 25 | P5: =Протокол!I56 -> 20 | Q5: =Протокол!N56 -> 12.5 | R5: =Протокол!V56 -> 5 | S5: =Протокол!N44 -> 1400 | T5: - | U5: - | V5: =Протокол!N48 -> 1.7 | W5: =Протокол!N49 -> 0.1 | X5: =Протокол!N50 -> 16.5 | Y5: - | Z5: =Протокол!N52 -> 3.2 | AA5: =MID(Протокол!R46,SEARCH("(",Протокол!R46)+1,SEARCH(")",Протокол!R46)-SEARCH("(",Протокол!R46)-1) -> 15,3% | AB5: =Протокол!N46 -> М1200 | AC5: =Протокол!N47 -> И1 | AD5: =Протокол!N51 -> F200 | AE5: Соответствует требованиям
F6: ч.о% | G6: =Протокол!E57 -> 0 | H6: =Протокол!I57 -> 6.86 | I6: =Протокол!N57 -> 35.66 | J6: =Протокол!V57 -> 52.58 | K6: =Протокол!AA57 -> 3.53 | O6: =Протокол!M57 -> 0 | P6: =Протокол!I57 -> 6.86 | Q6: =Протокол!N57 -> 35.66 | R6: =Протокол!V57 -> 52.58 | AC6: паспортные | AD6: паспортные | AE6: ГОСТ 8267-93 и РД
F7: п.о% | G7: =Протокол!E58 -> 0 | H7: =Протокол!I58 -> 6.86 | I7: =Протокол!N58 -> 42.52 | J7: =Протокол!V58 -> 95.1 | K7: =Протокол!AA58 -> 98.63 | O7: =Протокол!M58 -> 0 | P7: =Протокол!I58 -> 6.86 | Q7: =Протокол!N58 -> 42.52 | R7: =Протокол!V58 -> 95.1 | AC7: данные | AD7: данные | AE7: =Протокол!X67 -> Малахова Е.С.
